Workbook
Name ConnectionInfo: #REF!
Name ObjectInfo: #REF!

Sheet Seite 1
A1: Trennungsrechnung für die Bereiche Verkehrsbetrieb, Parkraumbewirtschaftung und Bäder der Stadtwerke Bayreuth Verkehr und Bäder GmbH
A2: für Nachweise öffentlicher Dienstleistungsauftrag Verkehr sowie Betrauungsregelung Parkraumbewirtschaftung und Bäderbetrieb
A4: Plan-/Ist-Vergleich Wirtschaftsjahr XXXX | E4: Gemeinsam | N4: Verkehrsbetrieb | W4: Parkbetriebe
B5: Aufwendungen / Erlöse | E5: Plan | H5: Ist | K5: Abweichung | N5: Plan | Q5: Ist | T5: Abweichung | W5: Plan | Z5: Ist | AC5: Abweichung
E6: € | H6: € | N6: € | Q6: € | W6: € | Z6: €
A7: 1. | B7: Umsatzerlöse inkl. folgender öffentlicher Zuschüsse 1) | L7: =I7-F7 -> 0 | U7: =R7-O7 -> 0 | AD7: =AA7-X7 -> 0
B8: davon | D8: Ausgleichszahlungen Art. 24 BayÖPNVG
D9: Ausgleichszahlungen § 231 SGB IX
D10: Augsleichsz. Schülerbeförderung Landkreis
D11: ÖPNV-Zuweisungen
D12: ZVGN-Zuschüsse inkl. Innov.p. u. 365 €-Ticket
D13: Billigkeitsleistungen Deutschlandticket
A14: 2. | B14: Andere aktivierte Eigenleistungen | L14: =I14-F14 -> 0 | U14: =R14-O14 -> 0 | AD14: =AA14-X14 -> 0
A15: 3. | B15: a) | C15: Sonstige betriebliche Erträge | L15: =I15-F15 -> 0 | U15: =R15-O15 -> 0 | AD15: =AA15-X15 -> 0
B16: b) | C16: Erträge aus internen Lieferungen u. Verrechnungen | F16: =SUM(F17:F19)+F21-F20 -> 0 | I16: =SUM(I17:I19)+I21-I20 -> 0 | L16: =SUM(L17:L19)+L21-L20 -> 0 | O16: =SUM(O17:O19)+O21-O20 -> 0 | R16: =SUM(R17:R19)+R21-R20 -> 0 | U16: =SUM(U17:U19)+U21-U20 -> 0 | X16: =SUM(X17:X19)+X21-X20 -> 0 | AA16: =SUM(AA17:AA19)+AA21-AA20 -> 0 | AD16: =SUM(AD17:AD19)+AD21-AD20 -> 0
C17: 1. | D17: Lieferungen an andere BZW | E17: ( | G17: ) | H17: ( | J17: ( | K17: ( | L17: =I17-F17 -> 0 | M17: ) | N17: ( | P17: ) | Q17: ( | S17: ) | T17: ( | U17: =R17-O17 -> 0 | V17: ) | W17: ( | Y17: ) | Z17: ( | AB17: ) | AC17: ( | AD17: =AA17-X17 -> 0 | AE17: )
C18: 2. | D18: Werkselbstverbrauch | E18: ( | G18: ) | H18: ( | J18: ( | K18: ( | L18: =I18-F18 -> 0 | M18: ) | N18: ( | P18: ) | Q18: ( | S18: ) | T18: ( | U18: =R18-O18 -> 0 | V18: ) | W18: ( | Y18: ) | Z18: ( | AB18: ) | AC18: ( | AD18: =AA18-X18 -> 0 | AE18: )
C19: 3. | D19: Leistungsausgleich | E19: ( | G19: ) | H19: ( | J19: ( | K19: ( | L19: =I19-F19 -> 0 | M19: ) | N19: ( | P19: ) | Q19: ( | S19: ) | T19: ( | U19: =R19-O19 -> 0 | V19: ) | W19: ( | Y19: ) | Z19: ( | AB19: ) | AC19: ( | AD19: =AA19-X19 -> 0 | AE19: )
C20: 4. | D20: Umlagenverrechnung Ertrag (Abgabe) | E20: ( | G20: ) | H20: ( | J20: ( | K20: ( | L20: =I20-F20 -> 0 | M20: ) | N20: ( | P20: ) | Q20: ( | S20: ) | T20: ( | U20: =R20-O20 -> 0 | V20: ) | W20: ( | Y20: ) | Z20: ( | AB20: ) | AC20: ( | AD20: =AA20-X20 -> 0 | AE20: )
C21: 5. | D21: Umlagenverrechnung Aufwand (Abgabe) | E21: ( | G21: ) | H21: ( | J21: ( | K21: ( | L21: =I21-F21 -> 0 | M21: ) | N21: ( | P21: ) | Q21: ( | S21: ) | T21: ( | U21: =R21-O21 -> 0 | V21: ) | W21: ( | Y21: ) | Z21: ( | AB21: ) | AC21: ( | AD21: =AA21-X21 -> 0 | AE21: )
A22: Summe Umsatzerlöse und sonstige betriebliche Erträge | F22: =F7+F14+F15+F16 -> 0 | I22: =I7+I14+I15+I16 -> 0 | L22: =L7+L14+L15+L16 -> 0 | O22: =O7+O14+O15+O16 -> 0 | R22: =R7+R14+R15+R16 -> 0 | U22: =U7+U14+U15+U16 -> 0 | X22: =X7+X14+X15+X16 -> 0 | AA22: =AA7+AA14+AA15+AA16 -> 0 | AD22: =AD7+AD14+AD15+AD16 -> 0
A23: 4. | B23: Materialaufwand | L23: =I23-F23 -> 0 | U23: =R23-O23 -> 0 | AD23: =AA23-X23 -> 0
C24: (davon Anmietkosten) | E24: ( | F24: 0 | G24: ) | H24: ( | I24: 0 | J24: ( | K24: ( | L24: =I24-F24 -> 0 | M24: ) | N24: ( | O24: 0 | P24: ) | Q24: ( | R24: 0 | S24: ) | T24: ( | U24: =R24-O24 -> 0 | V24: ) | W24: ( | X24: 0 | Y24: ) | Z24: ( | AA24: 0 | AB24: ) | AC24: ( | AD24: =AA24-X24 -> 0 | AE24: )
A25: 5. | B25: Personalaufwand | L25: =I25-F25 -> 0 | U25: =R25-O25 -> 0 | AD25: =AA25-X25 -> 0
A26: 6. | B26: Abschreibungen auf immat. Vermögensgegenstände des Anlagevermögens und Sachanlagen 2) | L26: =I26-F26 -> 0 | U26: =R26-O26 -> 0 | AD26: =AA26-X26 -> 0
A27: 7. | B27: a) | C27: Sonstige betriebliche Aufwendungen | L27: =I27-F27 -> 0 | U27: =R27-O27 -> 0 | AD27: =AA27-X27 -> 0
B28: b) | C28: Aufwendungen aus internen Lieferungen u. Verrechnungen | F28: =SUM(F29:F31)+F33-F32 -> 0 | I28: =SUM(I29:I31)+I33-I32 -> 0 | L28: =I28-F28 -> 0 | O28: =SUM(O29:O31)+O33-O32 -> 0 | R28: =SUM(R29:R31)+R33-R32 -> 0 | U28: =SUM(U29:U31)+U33-U32 -> 0 | X28: =SUM(X29:X31)+X33-X32 -> 0 | AA28: =SUM(AA29:AA31)+AA33-AA32 -> 0 | AD28: =SUM(AD29:AD31)+AD33-AD32 -> 0
C29: 1. | D29: Bezüge von anderen BZW | E29: ( | G29: ) | H29: ( | J29: ( | K29: ( | L29: =I29-F29 -> 0 | M29: ) | N29: ( | P29: ) | Q29: ( | S29: ) | T29: ( | U29: =R29-O29 -> 0 | V29: ) | W29: ( | Y29: ) | Z29: ( | AB29: ) | AC29: ( | AD29: =AA29-X29 -> 0 | AE29: )
C30: 2. | D30: Werkselbstverbrauch | E30: ( | G30: ) | H30: ( | J30: ( | K30: ( | L30: =I30-F30 -> 0 | M30: ) | N30: ( | P30: ) | Q30: ( | S30: ) | T30: ( | U30: =R30-O30 -> 0 | V30: ) | W30: ( | Y30: ) | Z30: ( | AB30: ) | AC30: ( | AD30: =AA30-X30 -> 0 | AE30: )
C31: 3. | D31: Leistungsausgleich | E31: ( | G31: ) | H31: ( | J31: ( | K31: ( | L31: =I31-F31 -> 0 | M31: ) | N31: ( | P31: ) | Q31: ( | S31: ) | T31: ( | U31: =R31-O31 -> 0 | V31: ) | W31: ( | Y31: ) | Z31: ( | AB31: ) | AC31: ( | AD31: =AA31-X31 -> 0 | AE31: )
C32: 4. | D32: Umlagenverrechnung Ertrag (Zurechnung) | E32: ( | G32: ) | H32: ( | J32: ( | K32: ( | L32: =I32-F32 -> 0 | M32: ) | N32: ( | P32: ) | Q32: ( | S32: ) | T32: ( | U32: =R32-O32 -> 0 | V32: ) | W32: ( | Y32: ) | Z32: ( | AB32: ) | AC32: ( | AD32: =AA32-X32 -> 0 | AE32: )
C33: 5. | D33: Umlagenverrechnung Aufwand (Zurechnung) | E33: ( | G33: ) | H33: ( | J33: ( | K33: ( | L33: =I33-F33 -> 0 | M33: ) | N33: ( | P33: ) | Q33: ( | S33: ) | T33: ( | U33: =R33-O33 -> 0 | V33: ) | W33: ( | Y33: ) | Z33: ( | AB33: ) | AC33: ( | AD33: =AA33-X33 -> 0 | AE33: )
A34: Summe betriebliche Aufwendungen | F34: =F23+F25+F26+F27+F28 -> 0 | I34: =I23+I25+I26+I27+I28 -> 0 | L34: =L23+L25+L26+L27+L28 -> 0 | O34: =O23+O25+O26+O27+O28 -> 0 | R34: =R23+R25+R26+R27+R28 -> 0 | U34: =U23+U25+U26+U27+U28 -> 0 | X34: =X23+X25+X26+X27+X28 -> 0 | AA34: =AA23+AA25+AA26+AA27+AA28 -> 0 | AD34: =AD23+AD25+AD26+AD27+AD28 -> 0
A35: 8. | B35: Erträge aus anderen Wertpapieren und Ausleihungen des Finanzanlagevermögens | L35: =I35-F35 -> 0 | U35: =R35-O35 -> 0 | AD35: =AA35-X35 -> 0
A36: 9. | B36: Sonstige Zinsen und ähnliche Erträge | L36: =I36-F36 -> 0 | U36: =R36-O36 -> 0 | AD36: =AA36-X36 -> 0
A37: 10. | B37: Zinsen und ähnliche Aufwendungen | L37: =I37-F37 -> 0 | U37: =R37-O37 -> 0 | AD37: =AA37-X37 -> 0
A38: 11. | B38: Steuern vom Einkommen und vom Ertrag | L38: =I38-F38 -> 0 | U38: =R38-O38 -> 0 | AD38: =AA38-X38 -> 0
A39: 12. | B39: Ergebnis nach Steuern | F39: =F22-F34+F35+F36-F37-F38 -> 0 | I39: =I22-I34+I35+I36-I37-I38 -> 0 | L39: =L22-L34+L35+L36-L37-L38 -> 0 | O39: =O22-O34+O35+O36-O37-O38 -> 0 | R39: =R22-R34+R35+R36-R37-R38 -> 0 | S39: =S22-S34+S35+S36-S37-S38 -> 0 | T39: =T22-T34+T35+T36-T37-T38 -> 0 | U39: =U22-U34+U35+U36-U37-U38 -> 0 | X39: =X22-X34+X35+X36-X37-X38 -> 0 | AA39: =AA22-AA34+AA35+AA36-AA37-AA38 -> 0 | AD39: =AD22-AD34+AD35+AD36-AD37-AD38 -> 0
A40: 13. | B40: Sonstige Steuern | L40: =I40-F40 -> 0 | U40: =R40-O40 -> 0 | AD40: =AA40-X40 -> 0
A41: 14. | B41: Erträge aus Verlustübernahme | L41: =I41-F41 -> 0 | U41: =R41-O41 -> 0 | AD41: =(AD39-AD38-AD40)*-1 -> 0
...

Sheet Seite 2
A1: Trennungsrechnung für die Bereiche Verkehrsbetrieb, Parkraumbewirtschaftung und Bäder der Stadtwerke Bayreuth Verkehr und Bäder GmbH
A2: für Nachweise öffentlicher Dienstleistungsauftrag Verkehr sowie Betrauungsregelung Parkraumbewirtschaftung und Bäderbetrieb
A4: Plan-/Ist-Vergleich Wirtschaftsjahr XXXX | E4: Stadtbad | N4: Freibäder | W4: Lohengrin Therme
B5: Aufwendungen / Erlöse | E5: Plan | H5: Ist | K5: Abweichung | N5: Plan | Q5: Ist | T5: Abweichung | W5: Plan | Z5: Ist | AC5: Abweichung
E6: € | H6: € | N6: € | Q6: € | W6: € | Z6: €
A7: 1. | B7: Umsatzerlöse | L7: =I7-F7 -> 0 | U7: =R7-O7 -> 0 | AD7: =AA7-X7 -> 0
A8: 2. | B8: Andere aktivierte Eigenleistungen | L8: =I8-F8 -> 0 | U8: =R8-O8 -> 0 | AD8: =AA8-X8 -> 0
A9: 3. | B9: a) | C9: Sonstige betriebliche Erträge | L9: =I9-F9 -> 0 | U9: =R9-O9 -> 0 | AD9: =AA9-X9 -> 0
B10: b) | C10: Erträge aus internen Lieferungen u. Verrechnungen | F10: =SUM(F11:F13)+F15-F14 -> 0 | I10: =SUM(I11:I13)+I15-I14 -> 0 | L10: =SUM(L11:L13)+L15-L14 -> 0 | O10: =SUM(O11:O13)+O15-O14 -> 0 | R10: =SUM(R11:R13)+R15-R14 -> 0 | U10: =SUM(U11:U13)+U15-U14 -> 0 | X10: =SUM(X11:X13)+X15-X14 -> 0 | AA10: =SUM(AA11:AA13)+AA15-AA14 -> 0 | AD10: =SUM(AD11:AD13)+AD15-AD14 -> 0
C11: 1. | D11: Lieferungen an andere BZW | E11: ( | G11: ) | H11: ( | J11: ) | K11: ( | L11: =I11-F11 -> 0 | M11: ) | N11: ( | O11: 0 | P11: ) | Q11: ( | S11: ) | T11: ( | U11: =R11-O11 -> 0 | V11: ) | W11: ( | Y11: ) | Z11: ( | AB11: ) | AC11: ( | AD11: =AA11-X11 -> 0 | AE11: )
C12: 2. | D12: Werkselbstverbrauch | E12: ( | G12: ) | H12: ( | J12: ) | K12: ( | L12: =I12-F12 -> 0 | M12: ) | N12: ( | O12: 0 | P12: ) | Q12: ( | S12: ) | T12: ( | U12: =R12-O12 -> 0 | V12: ) | W12: ( | Y12: ) | Z12: ( | AB12: ) | AC12: ( | AD12: =AA12-X12 -> 0 | AE12: )
C13: 3. | D13: Leistungsausgleich | E13: ( | G13: ) | H13: ( | J13: ) | K13: ( | L13: =I13-F13 -> 0 | M13: ) | N13: ( | O13: 0 | P13: ) | Q13: ( | S13: ) | T13: ( | U13: =R13-O13 -> 0 | V13: ) | W13: ( | Y13: ) | Z13: ( | AB13: ) | AC13: ( | AD13: =AA13-X13 -> 0 | AE13: )
C14: 4. | D14: Umlagenverrechnung Ertrag (Abgabe) | E14: ( | G14: ) | H14: ( | J14: ) | K14: ( | L14: =I14-F14 -> 0 | M14: ) | N14: ( | O14: 0 | P14: ) | Q14: ( | S14: ) | T14: ( | U14: =R14-O14 -> 0 | V14: ) | W14: ( | Y14: ) | Z14: ( | AB14: ) | AC14: ( | AD14: =AA14-X14 -> 0 | AE14: )
C15: 5. | D15: Umlagenverrechnung Aufwand (Abgabe) | E15: ( | G15: ) | H15: ( | J15: ) | K15: ( | L15: =I15-F15 -> 0 | M15: ) | N15: ( | O15: 0 | P15: ) | Q15: ( | S15: ) | T15: ( | U15: =R15-O15 -> 0 | V15: ) | W15: ( | Y15: ) | Z15: ( | AB15: ) | AC15: ( | AD15: =AA14-X14 -> 0 | AE15: )
A16: Summe Umsatzerlöse und sonstige betriebliche Erträge | F16: =F7+F8+F9+F10 -> 0 | I16: =I7+I8+I9+I10 -> 0 | L16: =L7+L8+L9+L10 -> 0 | O16: =O7+O8+O9+O10 -> 0 | R16: =R7+R8+R9+R10 -> 0 | U16: =U7+U8+U9+U10 -> 0 | X16: =X7+X8+X9+X10 -> 0 | AA16: =AA7+AA8+AA9+AA10 -> 0 | AD16: =AD7+AD8+AD9+AD10 -> 0
A17: 4. | B17: Materialaufwand | L17: =I17-F17 -> 0 | U17: =R17-O17 -> 0 | AD17: =AA17-X17 -> 0
A18: 5. | B18: Personalaufwand | L18: =I18-F18 -> 0 | U18: =R18-O18 -> 0 | AD18: =AA18-X18 -> 0
A19: 6. | B19: Abschreibungen auf immat. Vermögensgegenstände des Anlagevermögens und Sachanlagen | L19: =I19-F19 -> 0 | U19: =R19-O19 -> 0 | AD19: =AA19-X19 -> 0
A20: 7. | B20: a) | C20: Sonstige betriebliche Aufwendungen | L20: =I20-F20 -> 0 | U20: =R20-O20 -> 0 | AD20: =AA20-X20 -> 0
B21: b) | C21: Aufwendungen aus internen Lieferungen u. Verrechnungen | F21: =SUM(F22:F24)+F26-F25 -> 0 | I21: =SUM(I22:I24)+I26-I25 -> 0 | L21: =SUM(L22:L24)+L26-L25 -> 0 | O21: =SUM(O22:O24)+O26-O25 -> 0 | R21: =SUM(R22:R24)+R26-R25 -> 0 | U21: =SUM(U22:U24)+U26-U25 -> 0 | X21: =SUM(X22:X24)+X26-X25 -> 0 | AA21: =SUM(AA22:AA24)+AA26-AA25 -> 0 | AD21: =SUM(AD22:AD24)+AD26-AD25 -> 0
C22: 1. | D22: Bezüge von anderen BZW | E22: ( | G22: ) | H22: ( | J22: ) | K22: ( | L22: =I22-F22 -> 0 | M22: ) | N22: ( | P22: ) | Q22: ( | S22: ) | T22: ( | U22: =R22-O22 -> 0 | V22: ) | W22: ( | Y22: ) | Z22: ( | AB22: ) | AC22: ( | AD22: =AA22-X22 -> 0 | AE22: )
C23: 2. | D23: Werkselbstverbrauch | E23: ( | G23: ) | H23: ( | J23: ) | K23: ( | L23: =I23-F23 -> 0 | M23: ) | N23: ( | P23: ) | Q23: ( | S23: ) | T23: ( | U23: =R23-O23 -> 0 | V23: ) | W23: ( | Y23: ) | Z23: ( | AB23: ) | AC23: ( | AD23: =AA23-X23 -> 0 | AE23: )
C24: 3. | D24: Leistungsausgleich | E24: ( | G24: ) | H24: ( | J24: ) | K24: ( | L24: =I24-F24 -> 0 | M24: ) | N24: ( | P24: ) | Q24: ( | S24: ) | T24: ( | U24: =R24-O24 -> 0 | V24: ) | W24: ( | Y24: ) | Z24: ( | AB24: ) | AC24: ( | AD24: =AA24-X24 -> 0 | AE24: )
C25: 4. | D25: Umlagenverrechnung Ertrag (Zurechnung) | E25: ( | G25: ) | H25: ( | J25: ) | K25: ( | L25: =I25-F25 -> 0 | M25: ) | N25: ( | P25: ) | Q25: ( | S25: ) | T25: ( | U25: =R25-O25 -> 0 | V25: ) | W25: ( | Y25: ) | Z25: ( | AB25: ) | AC25: ( | AD25: =AA25-X25 -> 0 | AE25: )
C26: 5. | D26: Umlagenverrechnung Aufwand (Zurechnung) | E26: ( | G26: ) | H26: ( | J26: ) | K26: ( | L26: =I26-F26 -> 0 | M26: ) | N26: ( | P26: ) | Q26: ( | S26: ) | T26: ( | U26: =R26-O26 -> 0 | V26: ) | W26: ( | Y26: ) | Z26: ( | AB26: ) | AC26: ( | AD26: =AA26-X26 -> 0 | AE26: )
A27: Summe betriebliche Aufwendungen | F27: =F17+F18+F19+F20+F21 -> 0 | I27: =I17+I18+I19+I20+I21 -> 0 | L27: =L17+L18+L19+L20+L21 -> 0 | O27: =O17+O18+O19+O20+O21 -> 0 | R27: =R17+R18+R19+R20+R21 -> 0 | U27: =U17+U18+U19+U20+U21 -> 0 | X27: =X17+X18+X19+X20+X21 -> 0 | AA27: =AA17+AA18+AA19+AA20+AA21 -> 0 | AD27: =AD17+AD18+AD19+AD20+AD21 -> 0
A28: 8. | B28: Erträge aus anderen Wertpapieren und Ausleihungen des Finanzanlagevermögens | L28: =I28-F28 -> 0 | U28: =R28-O28 -> 0 | AD28: =AA28-X28 -> 0
A29: 9. | B29: Sonstige Zinsen und ähnliche Erträge | L29: =I29-F29 -> 0 | U29: =R29-O29 -> 0 | AD29: =AA29-X29 -> 0
A30: 10. | B30: Zinsen und ähnliche Aufwendungen | L30: =I30-F30 -> 0 | U30: =R30-O30 -> 0 | AD30: =AA30-X30 -> 0
A31: 11. | B31: Steuern vom Einkommen und vom Ertrag | L31: =I31-F31 -> 0 | U31: =R31-O31 -> 0 | AD31: =AA31-X31 -> 0
A32: 12. | B32: Ergebnis nach Steuern | F32: =F16-F27+F28+F29-F30-F31 -> 0 | G32: =G16-G27+G28+G29-G30-G31 -> 0 | H32: =H16-H27+H28+H29-H30-H31 -> 0 | I32: =I16-I27+I28+I29-I30-I31 -> 0 | J32: =J16-J27+J28+J29-J30-J31 -> 0 | L32: =L16-L27+L28+L29-L30-L31 -> 0 | O32: =O16-O27+O28+O29-O30-O31 -> 0 | R32: =R16-R27+R28+R29-R30-R31 -> 0 | U32: =U16-U27+U28+U29-U30-U31 -> 0 | X32: =X16-X27+X28+X29-X30-X31 -> 0 | AA32: =AA16-AA27+AA28+AA29-AA30-AA31 -> 0 | AD32: =AD16-AD27+AD28+AD29-AD30-AD31 -> 0
A33: 13. | B33: Sonstige Steuern | L33: =I33-F33 -> 0 | U33: =R33-O33 -> 0 | AD33: =AA33-X33 -> 0
A34: 14. | B34: Erträge aus Verlustübernahme | L34: =(L32-L31-L33)*-1 -> 0 | U34: =(U32-U31-U33)*-1 -> 0 | AD34: =(AD32-AD31-AD33)*-1 -> 0
A35: 15. | B35: Jahresüberschuss / Jahresfehlbetrag | F35: =F32-F33+F34 -> 0 | I35: =I32-I33+I34 -> 0 | L35: =L32-L33+L34 -> 0 | O35: =O32-O33+O34 -> 0 | R35: =R32-R33+R34 -> 0 | U35: =U32-U33+U34 -> 0 | X35: =X32-X33+X34 -> 0 | AA35: =AA32-AA33+AA34 -> 0 | AD35: =AD32-AD33+AD34 -> 0
A37: Nachrichtlich:
B38: Erträge aus Verlustübernahme | F38: =F34 -> 0 | I38: =I34 -> 0 | L38: =L34 -> 0 | O38: =O34 -> 0 | R38: =R34 -> 0 | U38: =U34 -> 0 | X38: =X34 -> 0 | AA38: =AA34 -> 0 | AD38: =AD34 -> 0 | AG38: Entfällt für Trennungsrechnung 2022, da kein Pacht-verzicht
B39: Pachtverzicht Lohengrin Therme | L39: =I39-F39 -> 0 | U39: =R39-O39 -> 0 | AD39: =AA39-X39 -> 0
B40: Ergebnis Nettokosten nach Ausgleichsbeschluss | F40: =SUM(F38:F39) -> 0 | I40: =SUM(I38:I39) -> 0 | L40: =SUM(L38:L39) -> 0 | O40: =SUM(O38:O39) -> 0 | R40: =SUM(R38:R39) -> 0 | U40: =SUM(U38:U39) -> 0 | X40: =SUM(X38:X39) -> 0 | AA40: =SUM(AA38:AA39) -> 0 | AD40: =SUM(AD38:AD39) -> 0

Sheet Seite 3 
A1: Trennungsrechnung für die Bereiche Verkehrsbetrieb, Parkraumbewirtschaftung und Bäder der Stadtwerke Bayreuth Verkehr und Bäder GmbH
A2: für Nachweise öffentlicher Dienstleistungsauftrag Verkehr sowie Betrauungsregelung Parkraumbewirtschaftung und Bäderbetrieb
A4: Plan-/Ist-Vergleich Wirtschaftsjahr XXXX | E4: Bäder Gesamt | N4: Verkehrsbetrieb | W4: Parkbetriebe | AF4: Nebengeschäft | AO4: Gesamt
B5: Aufwendungen / Erlöse | E5: Plan | H5: Ist | K5: Abweichung | N5: Plan | Q5: Ist | T5: Abweichung | W5: Plan | Z5: Ist | AC5: Abweichung | AF5: Plan | AI5: Ist | AL5: Abweichung | AO5: Plan | AR5: Ist | AV5: Abweichung
E6: € | H6: € | N6: € | Q6: € | W6: € | Z6: € | AF6: € | AI6: € | AO6: € | AR6: €
A7: 1. | B7: Umsatzerlöse | F7: ='Seite 2'!F7+'Seite 2'!O7+'Seite 2'!X7 -> 0 | I7: ='Seite 2'!I7+'Seite 2'!R7+'Seite 2'!AA7 -> 0 | L7: =I7-F7 -> 0 | O7: 6846000 | R7: 6775866.6 | U7: =R7-O7 -> -70133.4 | X7: 1253000 | AA7: 1338334.1 | AD7: =AA7-X7 -> 85334.15 | AM7: =AJ7-AG7 -> 0 | AP7: ='Seite 1'!F7+'Seite 1'!O7+'Seite 1'!X7+'Seite 3 '!F7+'Seite 3 '!AG7 -> 0 | AS7: ='Seite 1'!I7+'Seite 1'!R7+'Seite 1'!AA7+'Seite 3 '!I7+'Seite 3 '!AJ7 -> 0 | AW7: =AS7-AP7 -> 0
A8: 2. | B8: Andere aktivierte Eigenleistungen | F8: ='Seite 2'!F8+'Seite 2'!O8+'Seite 2'!X8 -> 0 | I8: ='Seite 2'!I8+'Seite 2'!R8+'Seite 2'!AA8 -> 0 | L8: =I8-F8 -> 0 | O8: 0 | R8: 0 | U8: =R8-O8 -> 0 | X8: 0 | AA8: 0 | AD8: =AA8-X8 -> 0 | AM8: =AJ8-AG8 -> 0 | AP8: ='Seite 1'!F14+'Seite 1'!O14+'Seite 1'!X14+'Seite 3 '!F8+'Seite 3 '!AG8 -> 0 | AS8: ='Seite 1'!I14+'Seite 1'!R14+'Seite 1'!AA14+'Seite 3 '!I8+'Seite 3 '!AJ8 -> 0 | AW8: =AS8-AP8 -> 0
A9: 3. | B9: a) | C9: Sonstige betriebliche Erträge | F9: ='Seite 2'!F9+'Seite 2'!O9+'Seite 2'!X9 -> 0 | I9: ='Seite 2'!I9+'Seite 2'!R9+'Seite 2'!AA9 -> 0 | L9: =I9-F9 -> 0 | O9: 16000 | R9: 173996.61 | U9: =R9-O9 -> 157996.61 | X9: 0 | AA9: 2573.86 | AD9: =AA9-X9 -> 2573.86 | AM9: =AJ9-AG9 -> 0 | AP9: ='Seite 1'!F15+'Seite 1'!O15+'Seite 1'!X15+'Seite 3 '!F9+'Seite 3 '!AG9 -> 0 | AS9: ='Seite 1'!I15+'Seite 1'!R15+'Seite 1'!AA15+'Seite 3 '!I9+'Seite 3 '!AJ9 -> 0 | AW9: =AS9-AP9 -> 0
B10: b) | C10: Erträge aus internen Lieferungen u. Verrechnungen | F10: =SUM(F11:F13)+F15-F14 -> 0 | I10: =SUM(I11:I13)+I15-I14 -> 0 | L10: =SUM(L11:L13)+L15-L14 -> 0 | O10: =SUM(O11:O13)+O15-O14 -> 312000 | R10: =SUM(R11:R13)+R15-R14 -> 158730.68 | U10: =SUM(U11:U14) -> -153269.32 | X10: =SUM(X11:X13)+X15-X14 -> 105000 | AA10: =SUM(AA11:AA13)+AA15-AA14 -> 46541.84 | AD10: =SUM(AD11:AD14) -> -58458.16 | AG10: =SUM(AG11:AG13)+AG15-AG14 -> 0 | AJ10: =SUM(AJ11:AJ13)+AJ15-AJ14 -> 0 | AM10: =SUM(AM11:AM13)+AM15-AM14 -> 0 | AP10: =SUM(AP11:AP13)+AP15-AP14 -> 0 | AS10: =SUM(AS11:AS13)+AS15-AS14 -> 0 | AW10: =SUM(AW11:AW13)+AW15-AW14 -> 0
C11: 1. | D11: Lieferungen an andere BZW | E11: ( | F11: ='Seite 2'!F11+'Seite 2'!O11+'Seite 2'!X11 -> 0 | G11: ) | H11: ( | I11: ='Seite 2'!I11+'Seite 2'!R11+'Seite 2'!AA11 -> 0 | J11: ) | K11: ( | L11: =I11-F11 -> 0 | M11: ) | N11: ( | O11: 7000 | P11: ) | Q11: ( | R11: 7348.29 | S11: ) | T11: ( | U11: =R11-O11 -> 348.29 | V11: ) | W11: ( | X11: 5000 | Y11: ) | Z11: ( | AA11: 5969.92 | AB11: ) | AC11: ( | AD11: =AA11-X11 -> 969.92 | AE11: ) | AF11: ( | AH11: ) | AI11: ( | AK11: ) | AL11: ( | AM11: =AJ11-AG11 -> 0 | AN11: ) | AO11: ( | AP11: ='Seite 1'!F17+'Seite 1'!O17+'Seite 1'!X17+'Seite 3 '!F11+'Seite 3 '!AG11 -> 0 | AQ11: ) | AR11: ( | AS11: ='Seite 1'!I17+'Seite 1'!R17+'Seite 1'!AA17+'Seite 3 '!I11+'Seite 3 '!AJ11 -> 0 | AT11: ) | AV11: ( | AW11: =AS11-AP11 -> 0 | AX11: )
C12: 2. | D12: Werkselbstverbrauch | E12: ( | F12: ='Seite 2'!F12+'Seite 2'!O12+'Seite 2'!X12 -> 0 | G12: ) | H12: ( | I12: ='Seite 2'!I12+'Seite 2'!R12+'Seite 2'!AA12 -> 0 | J12: ) | K12: ( | L12: =I12-F12 -> 0 | M12: ) | N12: ( | O12: 0 | P12: ) | Q12: ( | R12: 354.83 | S12: ) | T12: ( | U12: =R12-O12 -> 354.83 | V12: ) | W12: ( | X12: 0 | Y12: ) | Z12: ( | AA12: 75 | AB12: ) | AC12: ( | AD12: =AA12-X12 -> 75 | AE12: ) | AF12: ( | AH12: ) | AI12: ( | AK12: ) | AL12: ( | AM12: =AJ12-AG12 -> 0 | AN12: ) | AO12: ( | AP12: ='Seite 1'!F18+'Seite 1'!O18+'Seite 1'!X18+'Seite 3 '!F12+'Seite 3 '!AG12 -> 0 | AQ12: ) | AR12: ( | AS12: ='Seite 1'!I18+'Seite 1'!R18+'Seite 1'!AA18+'Seite 3 '!I12+'Seite 3 '!AJ12 -> 0 | AT12: ) | AV12: ( | AW12: =AS12-AP12 -> 0 | AX12: )
C13: 3. | D13: Leistungsausgleich | E13: ( | F13: ='Seite 2'!F13+'Seite 2'!O13+'Seite 2'!X13 -> 0 | G13: ) | H13: ( | I13: ='Seite 2'!I13+'Seite 2'!R13+'Seite 2'!AA13 -> 0 | J13: ) | K13: ( | L13: =I13-F13 -> 0 | M13: ) | N13: ( | O13: 305000 | P13: ) | Q13: ( | R13: 151027.56 | S13: ) | T13: ( | U13: =R13-O13 -> -153972.44 | V13: ) | W13: ( | X13: 100000 | Y13: ) | Z13: ( | AA13: 40496.92 | AB13: ) | AC13: ( | AD13: =AA13-X13 -> -59503.08 | AE13: ) | AF13: ( | AH13: ) | AI13: ( | AK13: ) | AL13: ( | AM13: =AJ13-AG13 -> 0 | AN13: ) | AO13: ( | AP13: ='Seite 1'!F19+'Seite 1'!O19+'Seite 1'!X19+'Seite 3 '!F13+'Seite 3 '!AG13 -> 0 | AQ13: ) | AR13: ( | AS13: ='Seite 1'!I19+'Seite 1'!R19+'Seite 1'!AA19+'Seite 3 '!I13+'Seite 3 '!AJ13 -> 0 | AT13: ) | AV13: ( | AW13: =AS13-AP13 -> 0 | AX13: )
C14: 4. | D14: Umlagenverrechnung Ertrag (Abgabe) | E14: ( | F14: ='Seite 2'!F14+'Seite 2'!O14+'Seite 2'!X14 -> 0 | G14: ) | H14: ( | I14: ='Seite 2'!I14+'Seite 2'!R14+'Seite 2'!AA14 -> 0 | J14: ) | K14: ( | L14: =I14-F14 -> 0 | M14: ) | N14: ( | O14: 0 | P14: ) | Q14: ( | R14: 0 | S14: ) | T14: ( | U14: =R14-O14 -> 0 | V14: ) | W14: ( | X14: 0 | Y14: ) | Z14: ( | AA14: 0 | AB14: ) | AC14: ( | AD14: =AA14-X14 -> 0 | AE14: ) | AF14: ( | AH14: ) | AI14: ( | AK14: ) | AL14: ( | AM14: =AJ14-AG14 -> 0 | AN14: ) | AO14: ( | AP14: ='Seite 1'!F20+'Seite 1'!O20+'Seite 1'!X20+'Seite 3 '!F14+'Seite 3 '!AG14 -> 0 | AQ14: ) | AR14: ( | AS14: ='Seite 1'!I20+'Seite 1'!R20+'Seite 1'!AA20+'Seite 3 '!I14+'Seite 3 '!AJ14 -> 0 | AT14: ) | AV14: ( | AW14: =AS14-AP14 -> 0 | AX14: )
C15: 5. | D15: Umlagenverrechnung Aufwand (Abgabe) | E15: ( | F15: ='Seite 2'!F15+'Seite 2'!O15+'Seite 2'!X15 -> 0 | G15: ) | H15: ( | I15: ='Seite 2'!I15+'Seite 2'!R15+'Seite 2'!AA15 -> 0 | J15: ) | K15: ( | L15: =I15-F15 -> 0 | M15: ) | N15: ( | O15: 0 | P15: ) | Q15: ( | R15: 0 | S15: ) | T15: ( | U15: =R15-O15 -> 0 | V15: ) | W15: ( | X15: 0 | Y15: ) | Z15: ( | AA15: 0 | AB15: ) | AC15: ( | AD15: =AA15-X15 -> 0 | AE15: ) | AF15: ( | AH15: ) | AI15: ( | AK15: ) | AL15: ( | AM15: =AJ15-AG15 -> 0 | AN15: ) | AO15: ( | AP15: ='Seite 1'!F21+'Seite 1'!O21+'Seite 1'!X21+'Seite 3 '!F15+'Seite 3 '!AG15 -> 0 | AQ15: ) | AR15: ( | AS15: ='Seite 1'!I21+'Seite 1'!R21+'Seite 1'!AA21+'Seite 3 '!I15+'Seite 3 '!AJ15 -> 0 | AT15: ) | AV15: ( | AW15: =AS15-AP15 -> 0 | AX15: )
A16: Summe Umsatzerlöse und sonstige betriebliche Erträge | F16: =F7+F8+F9+F10 -> 0 | I16: =I7+I8+I9+I10 -> 0 | L16: =L7+L8+L9+L10 -> 0 | O16: =O7+O8+O9+O10 -> 7174000 | R16: =R7+R8+R9+R10 -> 7108593.9 | U16: =U7+U8+U9+U10 -> -65406.11 | X16: =X7+X8+X9+X10 -> 1358000 | AA16: =AA7+AA8+AA9+AA10 -> 1387449.9 | AD16: =AD7+AD8+AD9+AD10 -> 29449.85 | AG16: =AG7+AG8+AG9+AG10 -> 0 | AJ16: =AJ7+AJ8+AJ9+AJ10 -> 0 | AM16: =AM7+AM8+AM9+AM10 -> 0 | AP16: =AP7+AP8+AP9+AP10 -> 0 | AS16: =AS7+AS8+AS9+AS10 -> 0 | AW16: =AW7+AW8+AW9+AW10 -> 0
A17: 4. | B17: Materialaufwand | F17: ='Seite 2'!F17+'Seite 2'!O17+'Seite 2'!X17 -> 0 | I17: ='Seite 2'!I17+'Seite 2'!R17+'Seite 2'!AA17 -> 0 | L17: =I17-F17 -> 0 | O17: 4400000 | R17: 3942977.5 | U17: =R17-O17 -> -457022.45 | X17: 533000 | AA17: 910403.43 | AD17: =AA17-X17 -> 377403.43 | AM17: =AJ17-AG17 -> 0 | AP17: ='Seite 1'!F23+'Seite 1'!O23+'Seite 1'!X23+'Seite 3 '!F17+'Seite 3 '!AG17 -> 0 | AS17: ='Seite 1'!I23+'Seite 1'!R23+'Seite 1'!AA23+'Seite 3 '!I17+'Seite 3 '!AJ17 -> 0 | AW17: =AS17-AP17 -> 0
A18: 5. | B18: Personalaufwand | F18: ='Seite 2'!F18+'Seite 2'!O18+'Seite 2'!X18 -> 0 | I18: ='Seite 2'!I18+'Seite 2'!R18+'Seite 2'!AA18 -> 0 | L18: =I18-F18 -> 0 | O18: 4044000 | R18: 4108344.2 | U18: =R18-O18 -> 64344.18 | X18: 462000 | AA18: 376830.04 | AD18: =AA18-X18 -> -85169.96 | AM18: =AJ18-AG18 -> 0 | AP18: ='Seite 1'!F25+'Seite 1'!O25+'Seite 1'!X25+'Seite 3 '!F18+'Seite 3 '!AG18 -> 0 | AS18: ='Seite 1'!I25+'Seite 1'!R25+'Seite 1'!AA25+'Seite 3 '!I18+'Seite 3 '!AJ18 -> 0 | AW18: =AS18-AP18 -> 0
A19: 6. | B19: Abschreibungen auf immat. Vermögensgegenstände des Anlagevermögens und Sachanlagen | F19: ='Seite 2'!F19+'Seite 2'!O19+'Seite 2'!X19 -> 0 | I19: ='Seite 2'!I19+'Seite 2'!R19+'Seite 2'!AA19 -> 0 | L19: =I19-F19 -> 0 | O19: 593000 | R19: 582535.08 | U19: =R19-O19 -> -10464.92 | X19: 211000 | AA19: 704348.58 | AD19: =AA19-X19 -> 493348.58 | AM19: =AJ19-AG19 -> 0 | AP19: ='Seite 1'!F26+'Seite 1'!O26+'Seite 1'!X26+'Seite 3 '!F19+'Seite 3 '!AG19 -> 0 | AS19: ='Seite 1'!I26+'Seite 1'!R26+'Seite 1'!AA26+'Seite 3 '!I19+'Seite 3 '!AJ19 -> 0 | AW19: =AS19-AP19 -> 0
A20: 7. | B20: a) | C20: Sonstige betriebliche Aufwendungen | F20: ='Seite 2'!F20+'Seite 2'!O20+'Seite 2'!X20 -> 0 | I20: ='Seite 2'!I20+'Seite 2'!R20+'Seite 2'!AA20 -> 0 | L20: =I20-F20 -> 0 | O20: 120000 | R20: 330535.08 | U20: =R20-O20 -> 210535.08 | X20: 28000 | AA20: 39539.93 | AD20: =AA20-X20 -> 11539.93 | AM20: =AJ20-AG20 -> 0 | AP20: ='Seite 1'!F27+'Seite 1'!O27+'Seite 1'!X27+'Seite 3 '!F20+'Seite 3 '!AG20 -> 0 | AS20: ='Seite 1'!I27+'Seite 1'!R27+'Seite 1'!AA27+'Seite 3 '!I20+'Seite 3 '!AJ20 -> 0 | AW20: =AS20-AP20 -> 0
B21: b) | C21: Aufwendungen aus internen Lieferungen u. Verrechnungen | F21: =SUM(F22:F24)+F26-F25 -> 0 | I21: =SUM(I22:I24)+I26-I25 -> 0 | L21: =SUM(L22:L24)+L26-L25 -> 0 | O21: =SUM(O22:O24)+O26-O25 -> 953000 | R21: =SUM(R22:R24)+R26-R25 -> 688746.34 | U21: =SUM(U22:U25) -> -156227.88 | X21: =SUM(X22:X24)+X26-X25 -> 232000 | AA21: =SUM(AA22:AA24)+AA26-AA25 -> 161723.18 | AD21: =SUM(AD22:AD25) -> -49502.03 | AG21: =SUM(AG22:AG24)+AG26-AG25 -> 0 | AJ21: =SUM(AJ22:AJ24)+AJ26-AJ25 -> 0 | AM21: =SUM(AM22:AM24)+AM26-AM25 -> 0 | AP21: =SUM(AP22:AP24)+AP26-AP25 -> 0 | AQ21: =SUM(AQ22:AQ24)+AQ26-AQ25 -> #VALUE! | AR21: =SUM(AR22:AR24)+AR26-AR25 -> #VALUE! | AS21: =SUM(AS22:AS24)+AS26-AS25 -> 0 | AU21: =SUM(AU22:AU24)+AU26-AU25 -> 0 | AV21: =SUM(AV22:AV24)+AV26-AV25 -> #VALUE! | AW21: =SUM(AW22:AW24)+AW26-AW25 -> 0
C22: 1. | D22: Bezüge von anderen BZW | E22: ( | F22: ='Seite 2'!F22+'Seite 2'!O22+'Seite 2'!X22 -> 0 | G22: ) | H22: ( | I22: ='Seite 2'!I22+'Seite 2'!R22+'Seite 2'!AA22 -> 0 | J22: ) | K22: ( | L22: =I22-F22 -> 0 | M22: ) | N22: ( | O22: 0 | P22: ) | Q22: ( | R22: 0 | S22: ) | T22: ( | U22: =R22-O22 -> 0 | V22: ) | W22: ( | X22: 0 | Y22: ) | Z22: ( | AA22: 0 | AB22: ) | AC22: ( | AD22: =AA22-X22 -> 0 | AE22: ) | AF22: ( | AH22: ) | AI22: ( | AK22: ) | AL22: ( | AM22: =AJ22-AG22 -> 0 | AN22: ) | AO22: ( | AP22: ='Seite 1'!F29+'Seite 1'!O29+'Seite 1'!X29+'Seite 3 '!F22+'Seite 3 '!AG22 -> 0 | AQ22: ) | AR22: ( | AS22: ='Seite 1'!I29+'Seite 1'!R29+'Seite 1'!AA29+'Seite 3 '!I22+'Seite 3 '!AJ22 -> 0 | AT22: ) | AV22: ( | AW22: =AS22-AP22 -> 0 | AX22: )
C23: 2. | D23: Werkselbstverbrauch | E23: ( | F23: ='Seite 2'!F23+'Seite 2'!O23+'Seite 2'!X23 -> 0 | G23: ) | H23: ( | I23: ='Seite 2'!I23+'Seite 2'!R23+'Seite 2'!AA23 -> 0 | J23: ) | K23: ( | L23: =I23-F23 -> 0 | M23: ) | N23: ( | O23: 0 | P23: ) | Q23: ( | R23: 354.83 | S23: ) | T23: ( | U23: =R23-O23 -> 354.83 | V23: ) | W23: ( | X23: 0 | Y23: ) | Z23: ( | AA23: 75 | AB23: ) | AC23: ( | AD23: =AA23-X23 -> 75 | AE23: ) | AF23: ( | AH23: ) | AI23: ( | AK23: ) | AL23: ( | AM23: =AJ23-AG23 -> 0 | AN23: ) | AO23: ( | AP23: ='Seite 1'!F30+'Seite 1'!O30+'Seite 1'!X30+'Seite 3 '!F23+'Seite 3 '!AG23 -> 0 | AQ23: ) | AR23: ( | AS23: ='Seite 1'!I30+'Seite 1'!R30+'Seite 1'!AA30+'Seite 3 '!I23+'Seite 3 '!AJ23 -> 0 | AT23: ) | AV23: ( | AW23: =AS23-AP23 -> 0 | AX23: )
C24: 3. | D24: Leistungsausgleich | E24: ( | F24: ='Seite 2'!F24+'Seite 2'!O24+'Seite 2'!X24 -> 0 | G24: ) | H24: ( | I24: ='Seite 2'!I24+'Seite 2'!R24+'Seite 2'!AA24 -> 0 | J24: ) | K24: ( | L24: =I24-F24 -> 0 | M24: ) | N24: ( | O24: 273000 | P24: ) | Q24: ( | R24: 110192.19 | S24: ) | T24: ( | U24: =R24-O24 -> -162807.81 | V24: ) | W24: ( | X24: 98000 | Y24: ) | Z24: ( | AA24: 43273.27 | AB24: ) | AC24: ( | AD24: =AA24-X24 -> -54726.73 | AE24: ) | AF24: ( | AH24: ) | AI24: ( | AK24: ) | AL24: ( | AM24: =AJ24-AG24 -> 0 | AN24: ) | AO24: ( | AP24: ='Seite 1'!F31+'Seite 1'!O31+'Seite 1'!X31+'Seite 3 '!F24+'Seite 3 '!AG24 -> 0 | AQ24: ) | AR24: ( | AS24: ='Seite 1'!I31+'Seite 1'!R31+'Seite 1'!AA31+'Seite 3 '!I24+'Seite 3 '!AJ24 -> 0 | AT24: ) | AV24: ( | AW24: =AS24-AP24 -> 0 | AX24: )
C25: 4. | D25: Umlagenverrechnung Ertrag (Zurechnung) | E25: ( | F25: ='Seite 2'!F25+'Seite 2'!O25+'Seite 2'!X25 -> 0 | G25: ) | H25: ( | I25: ='Seite 2'!I25+'Seite 2'!R25+'Seite 2'!AA25 -> 0 | J25: ) | K25: ( | L25: =I25-F25 -> 0 | M25: ) | N25: ( | O25: 0 | P25: ) | Q25: ( | R25: 6225.1 | S25: ) | T25: ( | U25: =R25-O25 -> 6225.1 | V25: ) | W25: ( | X25: 0 | Y25: ) | Z25: ( | AA25: 5149.7 | AB25: ) | AC25: ( | AD25: =AA25-X25 -> 5149.7 | AE25: ) | AF25: ( | AH25: ) | AI25: ( | AK25: ) | AL25: ( | AM25: =AJ25-AG25 -> 0 | AN25: ) | AO25: ( | AP25: ='Seite 1'!F32+'Seite 1'!O32+'Seite 1'!X32+'Seite 3 '!F25+'Seite 3 '!AG25 -> 0 | AQ25: ) | AR25: ( | AS25: ='Seite 1'!I32+'Seite 1'!R32+'Seite 1'!AA32+'Seite 3 '!I25+'Seite 3 '!AJ25 -> 0 | AT25: ) | AV25: ( | AW25: =AS25-AP25 -> 0 | AX25: )
C26: 5. | D26: Umlagenverrechnung Aufwand (Zurechnung) | E26: ( | F26: ='Seite 2'!F26+'Seite 2'!O26+'Seite 2'!X26 -> 0 | G26: ) | H26: ( | I26: ='Seite 2'!I26+'Seite 2'!R26+'Seite 2'!AA26 -> 0 | J26: ) | K26: ( | L26: =I26-F26 -> 0 | M26: ) | N26: ( | O26: 680000 | P26: ) | Q26: ( | R26: 584424.42 | S26: ) | T26: ( | U26: =R26-O26 -> -95575.58 | V26: ) | W26: ( | X26: 134000 | Y26: ) | Z26: ( | AA26: 123524.61 | AB26: ) | AC26: ( | AD26: =AA26-X26 -> -10475.39 | AE26: ) | AF26: ( | AH26: ) | AI26: ( | AK26: ) | AL26: ( | AM26: =AJ26-AG26 -> 0 | AN26: ) | AO26: ( | AP26: ='Seite 1'!F33+'Seite 1'!O33+'Seite 1'!X33+'Seite 3 '!F26+'Seite 3 '!AG26 -> 0 | AQ26: ) | AR26: ( | AS26: ='Seite 1'!I33+'Seite 1'!R33+'Seite 1'!AA33+'Seite 3 '!I26+'Seite 3 '!AJ26 -> 0 | AT26: ) | AV26: ( | AW26: =AS26-AP26 -> 0 | AX26: )
A27: Summe betriebliche Aufwendungen | F27: =F17+F18+F19+F20+F21 -> 0 | I27: =I17+I18+I19+I20+I21 -> 0 | L27: =L17+L18+L19+L20+L21 -> 0 | O27: =O17+O18+O19+O20+O21 -> 10110000 | R27: =R17+R18+R19+R20+R21 -> 9653138.2 | U27: =U17+U18+U19+U20+U21 -> -348835.99 | X27: =X17+X18+X19+X20+X21 -> 1466000 | AA27: =AA17+AA18+AA19+AA20+AA21 -> 2192845.2 | AD27: =AD17+AD18+AD19+AD20+AD21 -> 747619.95 | AG27: =AG17+AG18+AG19+AG20+AG21 -> 0 | AJ27: =AJ17+AJ18+AJ19+AJ20+AJ21 -> 0 | AM27: =AM17+AM18+AM19+AM20+AM21 -> 0 | AP27: =AP17+AP18+AP19+AP20+AP21 -> 0 | AS27: =AS17+AS18+AS19+AS20+AS21 -> 0 | AW27: =AW17+AW18+AW19+AW20+AW21 -> 0
A28: 8. | B28: Erträge aus anderen Wertpapieren und Ausleihungen des Finanzanlagevermögens | F28: ='Seite 2'!F28+'Seite 2'!O28+'Seite 2'!X28 -> 0 | I28: ='Seite 2'!I28+'Seite 2'!R28+'Seite 2'!AA28 -> 0 | L28: =I28-F28 -> 0 | O28: 0 | R28: 215.01 | U28: =R28-O28 -> 215.01 | X28: 0 | AA28: 0 | AD28: =AA28-X28 -> 0 | AM28: =AJ28-AG28 -> 0 | AP28: ='Seite 1'!F35+'Seite 1'!O35+'Seite 1'!X35+'Seite 3 '!F28+'Seite 3 '!AG28 -> 0 | AS28: ='Seite 1'!I35+'Seite 1'!R35+'Seite 1'!AA35+'Seite 3 '!I28+'Seite 3 '!AJ28 -> 0 | AW28: =AS28-AP28 -> 0
A29: 9. | B29: Sonstige Zinsen und ähnliche Erträge | F29: ='Seite 2'!F29+'Seite 2'!O29+'Seite 2'!X29 -> 0 | I29: ='Seite 2'!I29+'Seite 2'!R29+'Seite 2'!AA29 -> 0 | L29: =I29-F29 -> 0 | O29: 0 | R29: 752.24 | U29: =R29-O29 -> 752.24 | X29: 0 | AA29: 0 | AD29: =AA29-X29 -> 0 | AM29: =AJ29-AG29 -> 0 | AP29: ='Seite 1'!F36+'Seite 1'!O36+'Seite 1'!X36+'Seite 3 '!F29+'Seite 3 '!AG29 -> 0 | AS29: ='Seite 1'!I36+'Seite 1'!R36+'Seite 1'!AA36+'Seite 3 '!I29+'Seite 3 '!AJ29 -> 0 | AW29: =AS29-AP29 -> 0
A30: 10. | B30: Zinsen und ähnliche Aufwendungen | F30: ='Seite 2'!F30+'Seite 2'!O30+'Seite 2'!X30 -> 0 | I30: ='Seite 2'!I30+'Seite 2'!R30+'Seite 2'!AA30 -> 0 | L30: =I30-F30 -> 0 | O30: 1000 | R30: 2882.71 | U30: =R30-O30 -> 1882.71 | X30: 29000 | AA30: 5542.87 | AD30: =AA30-X30 -> -23457.13 | AM30: =AJ30-AG30 -> 0 | AP30: ='Seite 1'!F37+'Seite 1'!O37+'Seite 1'!X37+'Seite 3 '!F30+'Seite 3 '!AG30 -> 0 | AS30: ='Seite 1'!I37+'Seite 1'!R37+'Seite 1'!AA37+'Seite 3 '!I30+'Seite 3 '!AJ30 -> 0 | AW30: =AS30-AP30 -> 0
A31: 11. | B31: Steuern vom Einkommen und vom Ertrag | F31: ='Seite 2'!F31+'Seite 2'!O31+'Seite 2'!X31 -> 0 | I31: ='Seite 2'!I31+'Seite 2'!R31+'Seite 2'!AA31 -> 0 | L31: =I31-F31 -> 0 | O31: 0 | R31: 0 | U31: =R31-O31 -> 0 | X31: 0 | AA31: 0 | AD31: =AA31-X31 -> 0 | AM31: =AJ31-AG31 -> 0 | AP31: ='Seite 1'!F38+'Seite 1'!O38+'Seite 1'!X38+'Seite 3 '!F31+'Seite 3 '!AG31 -> 0 | AS31: ='Seite 1'!I38+'Seite 1'!R38+'Seite 1'!AA38+'Seite 3 '!I31+'Seite 3 '!AJ31 -> 0 | AW31: =AS31-AP31 -> 0
A32: 12. | B32: Ergebnis nach Steuern | F32: =F16-F27+F28+F29-F30-F31 -> 0 | I32: =I16-I27+I28+I29-I30-I31 -> 0 | L32: =L16-L27+L28+L29-L30-L31 -> 0 | O32: =O16-O27+O28+O29-O30-O31 -> -2937000 | R32: =R16-R27+R28+R29-R30-R31 -> -2546459.8 | U32: =U16-U27+U28+U29-U30-U31 -> 282514.42 | X32: =X16-X27+X28+X29-X30-X31 -> -137000 | AA32: =AA16-AA27+AA28+AA29-AA30-AA31 -> -810938.18 | AD32: =AD16-AD27+AD28+AD29-AD30-AD31 -> -694712.97 | AG32: =AG16-AG27+AG28+AG29-AG30-AG31 -> 0 | AJ32: =AJ16-AJ27+AJ28+AJ29-AJ30-AJ31 -> 0 | AM32: =AM16-AM27+AM28+AM29-AM30-AM31 -> 0 | AP32: =AP16-AP27+AP28+AP29-AP30-AP31 -> 0 | AS32: =AS16-AS27+AS28+AS29-AS30-AS31 -> 0 | AW32: =AW16-AW27+AW28+AW29-AW30-AW31 -> 0
A33: 13. | B33: Sonstige Steuern | F33: ='Seite 2'!F33+'Seite 2'!O33+'Seite 2'!X33 -> 0 | I33: ='Seite 2'!I33+'Seite 2'!R33+'Seite 2'!AA33 -> 0 | L33: =I33-F33 -> 0 | O33: 9000 | R33: 8384.19 | U33: =R33-O33 -> -615.81 | X33: 39000 | AA33: 45211.76 | AD33: =AA33-X33 -> 6211.76 | AM33: =AJ33-AG33 -> 0 | AP33: ='Seite 1'!F40+'Seite 1'!O40+'Seite 1'!X40+'Seite 3 '!F33+'Seite 3 '!AG33 -> 0 | AS33: ='Seite 1'!I40+'Seite 1'!R40+'Seite 1'!AA40+'Seite 3 '!I33+'Seite 3 '!AJ33 -> 0 | AW33: =AS33-AP33 -> 0
A34: 14. | B34: Erträge aus Verlustübernahme | F34: ='Seite 2'!F34+'Seite 2'!O34+'Seite 2'!X34 -> 0 | I34: ='Seite 2'!I34+'Seite 2'!R34+'Seite 2'!AA34 -> 0 | L34: =I34-F34 -> 0 | O34: 2946000 | R34: 2554844 | U34: =(U32-U31-U33)*-1 -> -283130.23 | X34: 176000 | AA34: 856149.94 | AD34: =(AD32-AD31-AD33)*-1 -> 700924.73 | AM34: =(AM32-AM31-AM33)*-1 -> 0 | AP34: ='Seite 1'!F41+'Seite 1'!O41+'Seite 1'!X41+'Seite 3 '!F34+'Seite 3 '!AG34 -> 0 | AS34: ='Seite 1'!I41+'Seite 1'!R41+'Seite 1'!AA41+'Seite 3 '!I34+'Seite 3 '!AJ34 -> 0 | AW34: =AS34-AP34 -> 0
A35: 15. | B35: Jahresüberschuss / Jahresfehlbetrag | F35: =F32-F33+F34 -> 0 | I35: =I32-I33+I34 -> 0 | L35: =L32-L33+L34 -> 0 | O35: =O32-O33+O34 -> 0 | R35: =R32-R33+R34 -> 0 | U35: =U32-U33+U34 -> 0 | X35: =X32-X33+X34 -> 0 | AA35: =AA32-AA33+AA34 -> 0 | AD35: =AD32-AD33+AD34 -> 0 | AG35: =AG32-AG33+AG34 -> 0 | AJ35: =AJ32-AJ33+AJ34 -> 0 | AM35: =AM32-AM33+AM34 -> 0 | AP35: =AP32-AP33+AP34 -> 0 | AS35: =AS32-AS33+AS34 -> 0 | AW35: =AW32-AW33+AW34 -> 0
A37: Nachrichtlich:
B38: Erträge aus Verlustübernahme | F38: ='Seite 2'!F38+'Seite 2'!O38+'Seite 2'!X38 -> 0 | I38: ='Seite 2'!I38+'Seite 2'!R38+'Seite 2'!AA38 -> 0 | L38: =I38-F38 -> 0 | AG38: =AG34 -> 0 | AJ38: =AJ34 -> 0 | AM38: =AM34 -> 0 | AP38: ='Seite 1'!F45+'Seite 1'!O45+'Seite 1'!X45+'Seite 3 '!F38+'Seite 3 '!AG38 -> 0 | AS38: ='Seite 1'!I45+'Seite 1'!R45+'Seite 1'!AA45+'Seite 3 '!I38+'Seite 3 '!AJ38 -> 0 | AW38: =AS38-AP38 -> 0 | AZ38: Entfällt für Trennungsrechnung 2022, da kein Pacht-verzicht
B39: Pachtverzicht Lohengrin Therme | F39: ='Seite 2'!F39+'Seite 2'!O39+'Seite 2'!X39 -> 0 | I39: ='Seite 2'!I39+'Seite 2'!R39+'Seite 2'!AA39 -> 0 | L39: =I39-F39 -> 0 | AG39: 0 | AJ39: 0 | AM39: 0 | AP39: ='Seite 1'!F46+'Seite 1'!O46+'Seite 1'!X46+'Seite 3 '!F39+'Seite 3 '!AG39 -> 0 | AS39: ='Seite 1'!I46+'Seite 1'!R46+'Seite 1'!AA46+'Seite 3 '!I39+'Seite 3 '!AJ39 -> 0 | AW39: =AS39-AP39 -> 0
B40: Ergebnis Nettokosten nach Ausgleichsbeschluss | F40: =SUM(F38:F39) -> 0 | I40: =SUM(I38:I39) -> 0 | L40: =SUM(L38:L39) -> 0 | AG40: =SUM(AG38:AG39) -> 0 | AJ40: =SUM(AJ38:AJ39) -> 0 | AM40: =SUM(AM38:AM39) -> 0 | AP40: =SUM(AP38:AP39) -> 0 | AS40: =SUM(AS38:AS39) -> 0 | AW40: =SUM(AW38:AW39) -> 0

Sheet 4-Plan-Ist-Vergleich
A1: Anlage 3d) - Beizubringende Nachweise | I1: Hier: | K1: Vergleich ursprünglicher Plan zu Ist-Ergebnis | AA1: Jahr: | AB1: 2027
A3: Nachweis über das Plan-Defizit und den finanziellen Nettoeffekt aus der Durchführung von ÖPNV-Leistungen im vergangenen Geschäftsjahr
B5: Plan (ex ante Berechnung) | K5: Plan ursprünglich | L5: Ist (ex post Berechnung) | S5: Ist | T5: Abweichung Plan / Ist | V5: Hinweise:
A6: 1. | C6: Berücksichtigungsfähiger "Plan Aufwand" für ÖPNV-Leistungen | K6: =K8+K10+K12+K13+K14+K20+K21 -> 0 | L6: Berücksichtigungsfähriger "Ist-Aufwand" | S6: =S8+S10+S12+S13+S14+S20+S21 -> 0 | T6: =T8+T10+T12+T13+T14+T20+T21 -> 0
C7: auf der Grundlage der prognostizierten Leistungen: | V7: 1) | W7: Im Berichtsjahr wurden Investitionszuschüsse der öffentlichen
C8: 4. | D8: Materialaufwand | L8: 4. | M8: Materialaufwand | T8: =S8-K8 -> 0 | W8: Hand in Höhe von XXX T€ gewährt, welche die Abschreibungs-
D9: davon | F9: Anmietkosten | M9: davon | O9: Anmietkosten | T9: =S9-K9 -> 0 | W9: belastung entsprechend vermindern.
C10: 5. | D10: Personalaufwand | L10: 5. | M10: Personalaufwand | T10: =S10-K10 -> 0
C11: 6. | D11: Abschreibungen auf immat. Vermögensgegenstände | L11: 6. | M11: Abschreibungen auf immat. Vermögensgegenstände | V11: 2) | W11: Bei der Position "öffentliche Zuschüsse"
D12: des Anlagevermögens und Sachanlagen 1) | M12: des Anlagevermögens und Sachanlagen 1) | T12: =S12-K12 -> 0 | W12: sind in der Tabelle unter Ziffer 1 - Umsatz-
C13: 7. | D13: a) | E13: Sonstige betriebliche Aufwendungen | L13: 7. | M13: a) | N13: Sonstige betriebliche Aufwendungen | T13: =S13-K13 -> 0 | W13: erlöse bzw. 3a) sonstige betriebliche Erträge
D14: b) | E14: Aufwendungen aus internen Lieferungen u. Verrechnungen | K14: =K15+K16+K17-K18+K19 -> 0 | M14: b) | N14: Aufwendungen aus internen Lieferungen u. Verrechnungen | S14: =S15+S16+S17-S18+S19 -> 0 | T14: =S14-K14 -> 0 | W14: nur die ertragswirksamen Bestandteile des
E15: 1. | F15: Bezüge von anderen BZW | N15: 1. | O15: Bezüge von anderen BZW | T15: =S15-K15 -> 0 | W15: Zuschusses ausgewiesen
E16: 2. | F16: Werkselbstverbrauch | N16: 2. | O16: Werkselbstverbrauch | T16: =S16-K16 -> 0
E17: 3. | F17: Leistungsausgleich | N17: 3. | O17: Leistungsausgleich | T17: =S17-K17 -> 0 | V17: 3) | W17: Gewinnaufschlag nur soweit Ist-Defizit
E18: 4. | F18: Umlagenverrechnung Ertrag (Zurechnung) | N18: 4. | O18: Umlagenverrechnung Ertrag (Zurechnung) | T18: =S18-K18 -> 0 | W18: ≤ Plan-Defizit
E19: 5. | F19: Umlagenverrechnung Aufwand (Zurechnung) | N19: 5. | O19: Umlagenverrechnung Aufwand (Zurechnung) | T19: =S19-K19 -> 0
C20: 10. | D20: Zinsen und ähnliche Aufwendungen | L20: 10. | M20: Zinsen und ähnliche Aufwendungen | T20: =S20-K20 -> 0
C21: 13. | D21: Sonstige Steuern | L21: 13. | M21: Sonstige Steuern | T21: =S21-K21 -> 0
A22: 2. | B22: - | C22: Berücksichtigungsfähiger "Plan-Ertrag für ÖPNV-Leistungen: | K22: =K23+K30+K31+K33 -> 0 | L22: Berücksichtigungsfähiger "Ist-Ertrag für ÖPNV-Leistungen: | S22: =S23+S30+S31+S33+S39+S40 -> 0 | T22: =T23+T30+T31+T33+T39+T40 -> 0 | V22: Eigenerbringungsquote:
C23: 1. | D23: Umsatzerlöse - inkl. folgender öffentlicher Zuschüsse: 2) | L23: 1. | M23: Umsatzerlöse - inkl. folgender öffentlicher Zuschüsse: 2) | T23: =S23-K23 -> 0
D24: davon | F24: Ausgleichszahlungen § 45a PBefG | M24: davon | O24: Ausgleichszahlungen § 45a PBefG | T24: =S24-K24 -> 0 | V24: Gesamtaufwand ÖPNV | AA24: =S6 -> 0
F25: Ausgleichszahlungen § 231 SGB IX | O25: Ausgleichszahlungen § 231 SGB IX | T25: =S25-K25 -> 0
F26: Augsleichszahlung Landkreis f. Schülerbeförderung | O26: Augsleichszahlung Landkreis f. Schülerbeförderung | T26: =S26-K26 -> 0 | V26: davon Anmietkosten | AA26: =S9 -> 0
F27: ÖPNV-Zuweisungen | O27: ÖPNV-Zuweisungen | T27: =S27-K27 -> 0 | V27: davon Kosten Eigenerbringung | AA27: =AA24-AA26 -> 0
F28: ZVGN-Zusch. inkl. Innovationsp. u. 365 €-Tick. | O28: ZVGN-Zusch. inkl. Innovationsp. u. 365 €-Tick. | T28: =S28-K28 -> 0
F29: Fördermittel Verstärkerfahrten Schülerverkehr | O29: Fördermittel Verstärkerfahrten Schülerverkehr | T29: =S29-K29 -> 0
C30: 2. | D30: Andere aktivierte Eigenleistungen | L30: 2. | M30: Andere aktivierte Eigenleistungen | T30: =S30-K30 -> 0
C31: 3. | D31: a) | E31: Sonstige betriebliche Erträge | L31: 3. | M31: a) | N31: Sonstige betriebliche Erträge | T31: =S31-K31 -> 0 | W31: =AA27 -> 0 | X31: x | Y31: 100 | Z31: = | AA31: =W31/W32 -> #DIV/0!
D32: davon | F32: Ausgleichszahlungen ÖPNV-Rettungsschirm 4) | K32: 0 | M32: davon | O32: Ausgleichszahlungen ÖPNV-Rettungsschirm | T32: =S32-K32 -> 0 | W32: =AA24 -> 0
D33: b) | E33: Erträge aus internen Lieferungen u. Verrechnungen | K33: =K34+K35+K36+K37-K38 -> 0 | M33: b) | N33: Erträge aus internen Lieferungen u. Verrechnungen | T33: =S33-K33 -> 0
E34: 1. | F34: Lieferungen an andere BZW | N34: 1. | O34: Lieferungen an andere BZW | T34: =S34-K34 -> 0
E35: 2. | F35: Werkselbstverbrauch | N35: 2. | O35: Werkselbstverbrauch | T35: =S35-K35 -> 0
E36: 3. | F36: Leistungsausgleich | N36: 3. | O36: Leistungsausgleich | T36: =S36-K36 -> 0
E37: 4. | F37: Umlagenverrechnung Ertrag (Abgabe) | N37: 4. | O37: Umlagenverrechnung Ertrag (Abgabe) | T37: =S37-K37 -> 0
E38: 5. | F38: Umlagenverrechnung Aufwand (Abgabe) | N38: 5. | O38: Umlagenverrechnung Aufwand (Abgabe) | T38: =S38-K38 -> 0
C39: 8. | D39: Erträge aus anderen Wertpapieren und Ausleihungen | L39: 8. | M39: Erträge aus anderen Wertpapieren und Ausleihungen | T39: =S39-K39 -> 0
C40: 9. | D40: Sonstige Zinsen und ähnliche Erträge | L40: 9. | M40: Sonstige Zinsen und ähnliche Erträge | T40: =S40-K40 -> 0
A41: 3. | B41: - | C41: Externe Effekte (nur soweit nachweisbar | K41: 0 | L41: Externe Effekte (nur soweit nachweisbar | S41: 0 | T41: =S41-K41 -> 0
A42: 4. | B42: = | C42: Plan-Defizit: | K42: =K6-K22-K41:K41 -> 0 | L42: Ist-Defizit | S42: =S6-S22-S41:S41 -> 0 | T42: =T6-T22-T41:T41 -> 0
...
